BEGIN:VCALENDAR
VERSION:2.0
PRODID:-//Neighborhood Christian Schools - ECPv6.15.20//NONSGML v1.0//EN
CALSCALE:GREGORIAN
METHOD:PUBLISH
X-ORIGINAL-URL:https://classicalncs.com
X-WR-CALDESC:Events for Neighborhood Christian Schools
REFRESH-INTERVAL;VALUE=DURATION:PT1H
X-Robots-Tag:noindex
X-PUBLISHED-TTL:PT1H
BEGIN:VTIMEZONE
TZID:America/Chicago
BEGIN:DAYLIGHT
TZOFFSETFROM:-0600
TZOFFSETTO:-0500
TZNAME:CDT
DTSTART:20220313T080000
END:DAYLIGHT
BEGIN:STANDARD
TZOFFSETFROM:-0500
TZOFFSETTO:-0600
TZNAME:CST
DTSTART:20221106T070000
END:STANDARD
BEGIN:DAYLIGHT
TZOFFSETFROM:-0600
TZOFFSETTO:-0500
TZNAME:CDT
DTSTART:20230312T080000
END:DAYLIGHT
BEGIN:STANDARD
TZOFFSETFROM:-0500
TZOFFSETTO:-0600
TZNAME:CST
DTSTART:20231105T070000
END:STANDARD
BEGIN:DAYLIGHT
TZOFFSETFROM:-0600
TZOFFSETTO:-0500
TZNAME:CDT
DTSTART:20240310T080000
END:DAYLIGHT
BEGIN:STANDARD
TZOFFSETFROM:-0500
TZOFFSETTO:-0600
TZNAME:CST
DTSTART:20241103T070000
END:STANDARD
BEGIN:DAYLIGHT
TZOFFSETFROM:-0600
TZOFFSETTO:-0500
TZNAME:CDT
DTSTART:20250309T080000
END:DAYLIGHT
BEGIN:STANDARD
TZOFFSETFROM:-0500
TZOFFSETTO:-0600
TZNAME:CST
DTSTART:20251102T070000
END:STANDARD
BEGIN:DAYLIGHT
TZOFFSETFROM:-0600
TZOFFSETTO:-0500
TZNAME:CDT
DTSTART:20260308T080000
END:DAYLIGHT
BEGIN:STANDARD
TZOFFSETFROM:-0500
TZOFFSETTO:-0600
TZNAME:CST
DTSTART:20261101T070000
END:STANDARD
END:VTIMEZONE
BEGIN:VEVENT
DTSTART;VALUE=DATE:20250317
DTEND;VALUE=DATE:20250321
DTSTAMP:20260423T123720
CREATED:20240814T161321Z
LAST-MODIFIED:20240814T161321Z
UID:2374-1742169600-1742515199@classicalncs.com
SUMMARY:Spring Break
DESCRIPTION:
URL:https://classicalncs.com/event/spring-break-3/
END:VEVENT
BEGIN:VEVENT
DTSTART;TZID=America/Chicago:20250313T183000
DTEND;TZID=America/Chicago:20250313T183000
DTSTAMP:20260423T123720
CREATED:20240814T160924Z
LAST-MODIFIED:20240814T161014Z
UID:2370-1741890600-1741890600@classicalncs.com
SUMMARY:Spring Celebration at First General Baptist Church
DESCRIPTION:
URL:https://classicalncs.com/event/spring-celebration/
END:VEVENT
BEGIN:VEVENT
DTSTART;VALUE=DATE:20250106
DTEND;VALUE=DATE:20250107
DTSTAMP:20260423T123720
CREATED:20240814T160748Z
LAST-MODIFIED:20240814T160748Z
UID:2368-1736121600-1736207999@classicalncs.com
SUMMARY:Classes Resume
DESCRIPTION:
URL:https://classicalncs.com/event/classes-resume-2/
END:VEVENT
BEGIN:VEVENT
DTSTART;VALUE=DATE:20241216
DTEND;VALUE=DATE:20250104
DTSTAMP:20260423T123720
CREATED:20240814T155541Z
LAST-MODIFIED:20240814T155541Z
UID:2361-1734307200-1735948799@classicalncs.com
SUMMARY:Christmas Break
DESCRIPTION:
URL:https://classicalncs.com/event/christmas-break-2/
END:VEVENT
BEGIN:VEVENT
DTSTART;TZID=America/Chicago:20241212T183000
DTEND;TZID=America/Chicago:20241212T183000
DTSTAMP:20260423T123720
CREATED:20240814T160652Z
LAST-MODIFIED:20240814T161205Z
UID:2365-1734028200-1734028200@classicalncs.com
SUMMARY:Christmas Fellowship at First General Baptist Church
DESCRIPTION:
URL:https://classicalncs.com/event/christmas-fellowship-3/
END:VEVENT
BEGIN:VEVENT
DTSTART;VALUE=DATE:20241125
DTEND;VALUE=DATE:20241129
DTSTAMP:20260423T123720
CREATED:20240814T155229Z
LAST-MODIFIED:20240814T155229Z
UID:2357-1732492800-1732838399@classicalncs.com
SUMMARY:Thanksgiving Break
DESCRIPTION:
URL:https://classicalncs.com/event/thanksgiving-break-3/
END:VEVENT
BEGIN:VEVENT
DTSTART;VALUE=DATE:20241104
DTEND;VALUE=DATE:20241108
DTSTAMP:20260423T123720
CREATED:20240814T155133Z
LAST-MODIFIED:20240814T155133Z
UID:2355-1730678400-1731023999@classicalncs.com
SUMMARY:Election Week - No School (all locations)
DESCRIPTION:
URL:https://classicalncs.com/event/election-week-no-school-all-locations/
END:VEVENT
BEGIN:VEVENT
DTSTART;VALUE=DATE:20241103
DTEND;VALUE=DATE:20241104
DTSTAMP:20260423T123720
CREATED:20240814T154836Z
LAST-MODIFIED:20240814T154836Z
UID:2353-1730592000-1730678399@classicalncs.com
SUMMARY:Daylight Savings Time Ends!
DESCRIPTION:
URL:https://classicalncs.com/event/daylight-savings-time-ends/
END:VEVENT
BEGIN:VEVENT
DTSTART;VALUE=DATE:20241021
DTEND;VALUE=DATE:20241023
DTSTAMP:20260423T123720
CREATED:20240814T154646Z
LAST-MODIFIED:20240814T154646Z
UID:2351-1729468800-1729641599@classicalncs.com
SUMMARY:Parent/Teacher Conferences - Academy
DESCRIPTION:
URL:https://classicalncs.com/event/parent-teacher-conferences-academy/
END:VEVENT
BEGIN:VEVENT
DTSTART;VALUE=DATE:20241014
DTEND;VALUE=DATE:20241018
DTSTAMP:20260423T123720
CREATED:20240814T154553Z
LAST-MODIFIED:20240814T154553Z
UID:2349-1728864000-1729209599@classicalncs.com
SUMMARY:Parent/Teacher Conferences - Grammar Schools
DESCRIPTION:
URL:https://classicalncs.com/event/parent-teacher-conferences-grammar-schools/
END:VEVENT
BEGIN:VEVENT
DTSTART;VALUE=DATE:20240902
DTEND;VALUE=DATE:20240903
DTSTAMP:20260423T123720
CREATED:20240814T154505Z
LAST-MODIFIED:20240814T154505Z
UID:2347-1725235200-1725321599@classicalncs.com
SUMMARY:No School - Labor Day
DESCRIPTION:
URL:https://classicalncs.com/event/no-school-labor-day/
END:VEVENT
BEGIN:VEVENT
DTSTART;VALUE=DATE:20240819
DTEND;VALUE=DATE:20240820
DTSTAMP:20260423T123720
CREATED:20240814T154014Z
LAST-MODIFIED:20240814T154014Z
UID:2339-1724025600-1724111999@classicalncs.com
SUMMARY:First Day of School
DESCRIPTION:
URL:https://classicalncs.com/event/first-day-of-school-2/
END:VEVENT
BEGIN:VEVENT
DTSTART;TZID=America/Chicago:20240816T090000
DTEND;TZID=America/Chicago:20240816T110000
DTSTAMP:20260423T123720
CREATED:20240814T154432Z
LAST-MODIFIED:20240814T154432Z
UID:2345-1723798800-1723806000@classicalncs.com
SUMMARY:Open House - Hutton Valley Grammar School
DESCRIPTION:
URL:https://classicalncs.com/event/open-house-hutton-valley-grammar-school/
END:VEVENT
BEGIN:VEVENT
DTSTART;TZID=America/Chicago:20240815T090000
DTEND;TZID=America/Chicago:20240815T110000
DTSTAMP:20260423T123720
CREATED:20240814T154400Z
LAST-MODIFIED:20240814T154400Z
UID:2343-1723712400-1723719600@classicalncs.com
SUMMARY:Open House - Forest Dell Grammar School
DESCRIPTION:
URL:https://classicalncs.com/event/open-house-forest-dell-grammar-school/
END:VEVENT
BEGIN:VEVENT
DTSTART;TZID=America/Chicago:20240813T183000
DTEND;TZID=America/Chicago:20240813T200000
DTSTAMP:20260423T123720
CREATED:20240814T154233Z
LAST-MODIFIED:20240814T154233Z
UID:2341-1723573800-1723579200@classicalncs.com
SUMMARY:Parent/Student Orientation Meeting
DESCRIPTION:
URL:https://classicalncs.com/event/parent-student-orientation-meeting/
LOCATION:First General Baptist Church\, 2507 Railroad Drive\, Willow Springs\, MO\, 65793\, United States
END:VEVENT
BEGIN:VEVENT
DTSTART;VALUE=DATE:20240516
DTEND;VALUE=DATE:20240517
DTSTAMP:20260423T123720
CREATED:20230818T193430Z
LAST-MODIFIED:20230818T193430Z
UID:2023-1715817600-1715903999@classicalncs.com
SUMMARY:Last Day of School
DESCRIPTION:Make up for snow days
URL:https://classicalncs.com/event/last-day-of-school-2/
CATEGORIES:General Event
END:VEVENT
BEGIN:VEVENT
DTSTART;VALUE=DATE:20240509
DTEND;VALUE=DATE:20240510
DTSTAMP:20260423T123720
CREATED:20230818T193320Z
LAST-MODIFIED:20230818T193320Z
UID:2021-1715212800-1715299199@classicalncs.com
SUMMARY:Half Day
DESCRIPTION:
URL:https://classicalncs.com/event/half-day/
CATEGORIES:General Event
END:VEVENT
BEGIN:VEVENT
DTSTART;VALUE=DATE:20240429
DTEND;VALUE=DATE:20240503
DTSTAMP:20260423T123720
CREATED:20230818T193228Z
LAST-MODIFIED:20230818T193228Z
UID:2019-1714348800-1714694399@classicalncs.com
SUMMARY:Grammar School Review Week
DESCRIPTION:
URL:https://classicalncs.com/event/grammar-school-review-week/
CATEGORIES:General Event
END:VEVENT
BEGIN:VEVENT
DTSTART;VALUE=DATE:20240425
DTEND;VALUE=DATE:20240426
DTSTAMP:20260423T123720
CREATED:20230818T193130Z
LAST-MODIFIED:20230818T193130Z
UID:2017-1714003200-1714089599@classicalncs.com
SUMMARY:All Schools Field Day
DESCRIPTION:tentative
URL:https://classicalncs.com/event/all-schools-field-day-2/
CATEGORIES:General Event
END:VEVENT
BEGIN:VEVENT
DTSTART;VALUE=DATE:20240325
DTEND;VALUE=DATE:20240329
DTSTAMP:20260423T123720
CREATED:20230818T193035Z
LAST-MODIFIED:20230818T193035Z
UID:2015-1711324800-1711670399@classicalncs.com
SUMMARY:Parent/Teacher Conferences
DESCRIPTION:
URL:https://classicalncs.com/event/parent-teacher-conferences-3/
CATEGORIES:Meeting
END:VEVENT
BEGIN:VEVENT
DTSTART;VALUE=DATE:20240311
DTEND;VALUE=DATE:20240315
DTSTAMP:20260423T123720
CREATED:20230818T192930Z
LAST-MODIFIED:20230818T192930Z
UID:2013-1710115200-1710460799@classicalncs.com
SUMMARY:Spring Break
DESCRIPTION:
URL:https://classicalncs.com/event/spring-break-2/
CATEGORIES:No School
END:VEVENT
BEGIN:VEVENT
DTSTART;TZID=America/Chicago:20240307T183000
DTEND;TZID=America/Chicago:20240307T200000
DTSTAMP:20260423T123720
CREATED:20230818T192840Z
LAST-MODIFIED:20230818T192840Z
UID:2011-1709836200-1709841600@classicalncs.com
SUMMARY:NCS Celebration Night
DESCRIPTION:
URL:https://classicalncs.com/event/ncs-celebration-night/
LOCATION:First General Baptist Church\, 2507 Railroad Drive\, Willow Springs\, MO\, 65793\, United States
CATEGORIES:General Event
END:VEVENT
BEGIN:VEVENT
DTSTART;VALUE=DATE:20240108
DTEND;VALUE=DATE:20240109
DTSTAMP:20260423T123720
CREATED:20230818T192708Z
LAST-MODIFIED:20230818T192708Z
UID:2009-1704672000-1704758399@classicalncs.com
SUMMARY:Classes Resume
DESCRIPTION:
URL:https://classicalncs.com/event/classes-resume/
END:VEVENT
BEGIN:VEVENT
DTSTART;VALUE=DATE:20231218
DTEND;VALUE=DATE:20240105
DTSTAMP:20260423T123720
CREATED:20230818T192517Z
LAST-MODIFIED:20230818T192517Z
UID:2005-1702857600-1704412799@classicalncs.com
SUMMARY:Christmas Break
DESCRIPTION:
URL:https://classicalncs.com/event/christmas-break/
CATEGORIES:No School
END:VEVENT
BEGIN:VEVENT
DTSTART;TZID=America/Chicago:20231214T183000
DTEND;TZID=America/Chicago:20231214T200000
DTSTAMP:20260423T123720
CREATED:20230818T192329Z
LAST-MODIFIED:20230818T192329Z
UID:2003-1702578600-1702584000@classicalncs.com
SUMMARY:Christmas Fellowship
DESCRIPTION:
URL:https://classicalncs.com/event/christmas-fellowship/
LOCATION:First General Baptist Church\, 2507 Railroad Drive\, Willow Springs\, MO\, 65793\, United States
CATEGORIES:General Event
END:VEVENT
BEGIN:VEVENT
DTSTART;VALUE=DATE:20231120
DTEND;VALUE=DATE:20231124
DTSTAMP:20260423T123720
CREATED:20230818T192605Z
LAST-MODIFIED:20230818T192605Z
UID:2007-1700438400-1700783999@classicalncs.com
SUMMARY:Thanksgiving Break
DESCRIPTION:
URL:https://classicalncs.com/event/thanksgiving-break-2/
CATEGORIES:No School
END:VEVENT
BEGIN:VEVENT
DTSTART;VALUE=DATE:20231109
DTEND;VALUE=DATE:20231110
DTSTAMP:20260423T123720
CREATED:20230818T192228Z
LAST-MODIFIED:20230818T192228Z
UID:2001-1699488000-1699574399@classicalncs.com
SUMMARY:All Schools Field Day
DESCRIPTION:tentative
URL:https://classicalncs.com/event/all-schools-field-day/
CATEGORIES:General Event
END:VEVENT
BEGIN:VEVENT
DTSTART;VALUE=DATE:20231023
DTEND;VALUE=DATE:20231027
DTSTAMP:20260423T123720
CREATED:20230818T192127Z
LAST-MODIFIED:20230818T192127Z
UID:1999-1698019200-1698364799@classicalncs.com
SUMMARY:Parent/Teacher Conferences
DESCRIPTION:
URL:https://classicalncs.com/event/parent-teacher-conferences-2/
CATEGORIES:Meeting
END:VEVENT
BEGIN:VEVENT
DTSTART;VALUE=DATE:20231009
DTEND;VALUE=DATE:20231013
DTSTAMP:20260423T123720
CREATED:20230818T192035Z
LAST-MODIFIED:20230818T192035Z
UID:1997-1696809600-1697155199@classicalncs.com
SUMMARY:Fall Break
DESCRIPTION:
URL:https://classicalncs.com/event/fall-break/
CATEGORIES:No School
END:VEVENT
BEGIN:VEVENT
DTSTART;VALUE=DATE:20230930
DTEND;VALUE=DATE:20231001
DTSTAMP:20260423T123720
CREATED:20230818T191938Z
LAST-MODIFIED:20230818T191938Z
UID:1995-1696032000-1696118399@classicalncs.com
SUMMARY:Hutton Valley Fall Festival
DESCRIPTION:
URL:https://classicalncs.com/event/hutton-valley-fall-festival-2/
CATEGORIES:Fall Festival
END:VEVENT
END:VCALENDAR